BEGIN:VCALENDAR
VERSION:2.0
PRODID:-//wp-events-plugin.com//7.2.3.1//EN
TZID:Europe/Berlin
X-WR-TIMEZONE:Europe/Berlin
BEGIN:VEVENT
UID:19@armenische-kulturtage-stuttgart.de
DTSTART;TZID=Europe/Berlin:20241018T190000
DTEND;TZID=Europe/Berlin:20241018T203000
DTSTAMP:20241016T115021Z
URL:https://armenische-kulturtage-stuttgart.de/events/chorkonzert-himmlisc
 he-klaenge-mit-dem-beruehmten-geghard-chor-aus-armenien-4/
SUMMARY:CHORKONZERT: Himmlische Klänge mit dem berühmten Geghard Chor aus
  Armenien
DESCRIPTION:Erleben Sie die himmlischen Klänge des berühmten Geghard Chor
 s aus Armenien bei einem unvergesslichen Konzert in Stuttgart. Sakrale und
  traditionelle Werke treffen auf moderne Interpretation. Freitag\, 18. Okt
 ober 2024 – Eintritt frei!
ATTACH;FMTTYPE=image/jpeg:https://armenische-kulturtage-stuttgart.de/wp-co
 ntent/uploads/2024/09/3-1.png
CATEGORIES:Konzert
LOCATION:Evang. Gedächtniskirche Stuttgart\, Hölderlinstraße 14\, Stuttg
 art\, 70174\, Deutschland
X-APPLE-STRUCTURED-LOCATION;VALUE=URI;X-ADDRESS=Hölderlinstraße 14\, Stut
 tgart\, 70174\, Deutschland;X-APPLE-RADIUS=100;X-TITLE=Evang. Gedächtnisk
 irche Stuttgart:geo:0,0
END:VEVENT
BEGIN:VTIMEZONE
TZID:Europe/Berlin
X-LIC-LOCATION:Europe/Berlin
BEGIN:DAYLIGHT
DTSTART:20240331T030000
TZOFFSETFROM:+0100
TZOFFSETTO:+0200
TZNAME:CEST
END:DAYLIGHT
END:VTIMEZONE
END:VCALENDAR